BEGIN:VCALENDAR
VERSION:2.0
PRODID:-//Plone.org//NONSGML plone.app.event//EN
X-WR-TIMEZONE:Europe/Berlin
BEGIN:VEVENT
SUMMARY:Luisa Carnésen 'Hamahiru ipuin'\, Zarautzen
DTSTART;TZID=Europe/Berlin;VALUE=DATE-TIME:20230525T183000
DTSTAMP;VALUE=DATE-TIME:20260425T123539Z
UID:646ff25f16724bd9a39b50767f34d268@eizievarnish
CATEGORIES:Irakurle taldeak
CREATED;VALUE=DATE-TIME:20230327T102615Z
LAST-MODIFIED;VALUE=DATE-TIME:20230327T102623Z
LOCATION:Sanz Enea liburutegia\, Zarautz
URL:https://eizie.eus/eu/agenda/luisa-carnesen-hamahiru-ipuin-zarautzen
END:VEVENT
BEGIN:VTIMEZONE
TZID:Europe/Berlin
X-LIC-LOCATION:Europe/Berlin
BEGIN:DAYLIGHT
DTSTART;VALUE=DATE-TIME:20230326T030000
TZNAME:CEST
TZOFFSETFROM:+0100
TZOFFSETTO:+0200
END:DAYLIGHT
END:VTIMEZONE
END:VCALENDAR
