BEGIN:VCALENDAR
VERSION:2.0
PRODID:-//Plone.org//NONSGML plone.app.event//EN
X-WR-TIMEZONE:Europe/Berlin
BEGIN:VEVENT
SUMMARY:Literatura Unibertsala itzulpen-lehiaketa 2025 - 2. deialdia (azke
 n eguna: irailak 10)
DTSTART;TZID=Europe/Berlin;VALUE=DATE-TIME:20250610T100000
DTEND;TZID=Europe/Berlin;VALUE=DATE-TIME:20250910T120000
DTSTAMP;VALUE=DATE-TIME:20260425T205035Z
UID:bccdc0558d66486ca76f78ae75602092@eizievarnish
CATEGORIES:Literatura unibertsala
CREATED;VALUE=DATE-TIME:20250617T081726Z
LAST-MODIFIED;VALUE=DATE-TIME:20250908T102241Z
LOCATION:EIZIE
URL:https://eizie.eus/eu/agenda/literatura-unibertsala-itzulpen-lehiaketa-
 2025-2-deialdia
END:VEVENT
BEGIN:VTIMEZONE
TZID:Europe/Berlin
X-LIC-LOCATION:Europe/Berlin
BEGIN:DAYLIGHT
DTSTART;VALUE=DATE-TIME:20250330T030000
TZNAME:CEST
TZOFFSETFROM:+0100
TZOFFSETTO:+0200
END:DAYLIGHT
END:VTIMEZONE
END:VCALENDAR
