BEGIN:VCALENDAR
VERSION:2.0
PRODID:-//Plone.org//NONSGML plone.app.event//EN
X-WR-TIMEZONE:Europe/Berlin
BEGIN:VEVENT
SUMMARY:Literatura Unibertsala itzulpen-lehiaketa 2024 - 2. deialdia (irai
 laren 10era arte zabalik)
DTSTART;TZID=Europe/Berlin;VALUE=DATE-TIME:20240606T100000
DTEND;TZID=Europe/Berlin;VALUE=DATE-TIME:20240910T120000
DTSTAMP;VALUE=DATE-TIME:20260425T210109Z
UID:5ed3c28f4a46454b8be574ca84f06ae5@eizievarnish
CATEGORIES:Literatura unibertsala
CREATED;VALUE=DATE-TIME:20240621T080855Z
LAST-MODIFIED;VALUE=DATE-TIME:20240621T080939Z
LOCATION:EIZIE\, Donostia
URL:https://eizie.eus/eu/agenda/literatura-unibertsala-itzulpen-lehiaketa-
 2024-2-deialdia-irailaren-10era-arte-zabalik
END:VEVENT
BEGIN:VTIMEZONE
TZID:Europe/Berlin
X-LIC-LOCATION:Europe/Berlin
BEGIN:DAYLIGHT
DTSTART;VALUE=DATE-TIME:20240331T030000
TZNAME:CEST
TZOFFSETFROM:+0100
TZOFFSETTO:+0200
END:DAYLIGHT
END:VTIMEZONE
END:VCALENDAR
