BEGIN:VCALENDAR
VERSION:2.0
PRODID:-//Plone.org//NONSGML plone.app.event//EN
X-WR-TIMEZONE:Europe/Berlin
BEGIN:VEVENT
SUMMARY:Liburu aurkezpenak - Durangoko Azoka
DTSTART;VALUE=DATE:20241205
DTEND;VALUE=DATE:20241209
DTSTAMP;VALUE=DATE-TIME:20260425T185722Z
UID:72588e6e71aa4209a68d2514a2331da1@eizievarnish
CATEGORIES:Ekitaldiak
CREATED;VALUE=DATE-TIME:20241202T105735Z
LAST-MODIFIED;VALUE=DATE-TIME:20241202T110016Z
LOCATION:Durangoko Azoka
URL:https://eizie.eus/eu/agenda/liburu-aurkezpenak-durangoko-azoka-1
END:VEVENT
END:VCALENDAR
