BEGIN:VCALENDAR
VERSION:2.0
PRODID:-//Plone.org//NONSGML plone.app.event//EN
X-WR-TIMEZONE:Europe/Berlin
BEGIN:VEVENT
SUMMARY:Leslie Feinberg-en 'Mari-mutil handi baten bluesa'\, Larrabetzun
DTSTART;TZID=Europe/Berlin;VALUE=DATE-TIME:20230615T190000
DTSTAMP;VALUE=DATE-TIME:20260425T130117Z
UID:9068663da42644a8b39bc3ec532f3a0e@eizievarnish
CATEGORIES:Irakurle taldeak
CREATED;VALUE=DATE-TIME:20230609T092427Z
LAST-MODIFIED;VALUE=DATE-TIME:20230609T092430Z
LOCATION:Anguleri
URL:https://eizie.eus/eu/agenda/leslie-feinberg-en-mari-mutil-handi-baten-
 bluesa-larrabetzun
END:VEVENT
BEGIN:VTIMEZONE
TZID:Europe/Berlin
X-LIC-LOCATION:Europe/Berlin
BEGIN:DAYLIGHT
DTSTART;VALUE=DATE-TIME:20230326T030000
TZNAME:CEST
TZOFFSETFROM:+0100
TZOFFSETTO:+0200
END:DAYLIGHT
END:VTIMEZONE
END:VCALENDAR
