BEGIN:VCALENDAR
VERSION:2.0
PRODID:-//Plone.org//NONSGML plone.app.event//EN
X-WR-TIMEZONE:Europe/Berlin
BEGIN:VEVENT
SUMMARY:Leslie Feinberg-en 'Mari-mutil handi baten bluesa'\, Irurtzunen
DTSTART;TZID=Europe/Berlin;VALUE=DATE-TIME:20230920T190000
DTSTAMP;VALUE=DATE-TIME:20260425T125921Z
UID:84f4d44ae095423c9c0caf0eb82f0f98@eizievarnish
CATEGORIES:Irakurle taldeak
CREATED;VALUE=DATE-TIME:20230913T142439Z
LAST-MODIFIED;VALUE=DATE-TIME:20230913T142456Z
LOCATION:Pikuxar Elkartea\, Irurtzun
URL:https://eizie.eus/eu/agenda/leslie-feinberg-en-mari-mutil-handi-baten-
 bluesa-irurtzunen
END:VEVENT
BEGIN:VTIMEZONE
TZID:Europe/Berlin
X-LIC-LOCATION:Europe/Berlin
BEGIN:DAYLIGHT
DTSTART;VALUE=DATE-TIME:20230326T030000
TZNAME:CEST
TZOFFSETFROM:+0100
TZOFFSETTO:+0200
END:DAYLIGHT
END:VTIMEZONE
END:VCALENDAR
