BEGIN:VCALENDAR
VERSION:2.0
PRODID:-//Plone.org//NONSGML plone.app.event//EN
X-WR-TIMEZONE:Europe/Berlin
BEGIN:VEVENT
SUMMARY:Leonardo Sciasciaren 'Todo modo'\, Arrasaten
DTSTART;TZID=Europe/Berlin;VALUE=DATE-TIME:20230525T183000
DTEND;TZID=Europe/Berlin;VALUE=DATE-TIME:20230525T203000
DTSTAMP;VALUE=DATE-TIME:20260425T125618Z
UID:a2abbe2922734f76b0ba065e119dcbed@eizievarnish
CATEGORIES:Literatura unibertsala,Irakurle taldeak
CREATED;VALUE=DATE-TIME:20230524T162850Z
LAST-MODIFIED;VALUE=DATE-TIME:20230524T162858Z
LOCATION:Kulturate\, Arrasate
URL:https://eizie.eus/eu/agenda/leonardo-sciasciaren-todo-modo-arrasaten
END:VEVENT
BEGIN:VTIMEZONE
TZID:Europe/Berlin
X-LIC-LOCATION:Europe/Berlin
BEGIN:DAYLIGHT
DTSTART;VALUE=DATE-TIME:20230326T030000
TZNAME:CEST
TZOFFSETFROM:+0100
TZOFFSETTO:+0200
END:DAYLIGHT
END:VTIMEZONE
END:VCALENDAR
