BEGIN:VCALENDAR
VERSION:2.0
PRODID:-//Plone.org//NONSGML plone.app.event//EN
X-WR-TIMEZONE:Europe/Berlin
BEGIN:VEVENT
SUMMARY:Klubak. 'Berbelitzen paperak'\, Donostian
DTSTART;TZID=Europe/Berlin;VALUE=DATE-TIME:20250827T183000
DTEND;TZID=Europe/Berlin;VALUE=DATE-TIME:20250827T200000
DTSTAMP;VALUE=DATE-TIME:20260425T204658Z
UID:d169ade917b743ab9a1673a09e2f93ec@eizievarnish
CATEGORIES:Ekitaldiak
CREATED;VALUE=DATE-TIME:20250826T065853Z
LAST-MODIFIED;VALUE=DATE-TIME:20250826T065933Z
LOCATION:KM Kulturuneko Santa Teresa komentuko klaustroa
URL:https://eizie.eus/eu/agenda/klubak-berbelitzen-paperak-donostian
END:VEVENT
BEGIN:VTIMEZONE
TZID:Europe/Berlin
X-LIC-LOCATION:Europe/Berlin
BEGIN:DAYLIGHT
DTSTART;VALUE=DATE-TIME:20250330T030000
TZNAME:CEST
TZOFFSETFROM:+0100
TZOFFSETTO:+0200
END:DAYLIGHT
END:VTIMEZONE
END:VCALENDAR
