BEGIN:VCALENDAR
VERSION:2.0
PRODID:-//Plone.org//NONSGML plone.app.event//EN
X-WR-TIMEZONE:Europe/Berlin
BEGIN:VEVENT
SUMMARY:Karel Čapek-en 'Arrabioen gerra' liburuaren aurkezpena Literaturi
 an
DTSTART;TZID=Europe/Berlin;VALUE=DATE-TIME:20240525T180000
DTEND;TZID=Europe/Berlin;VALUE=DATE-TIME:20240525T182500
DTSTAMP;VALUE=DATE-TIME:20260425T205210Z
UID:d19f045969674c36bf617b6860b6d289@eizievarnish
CATEGORIES:Ekitaldiak
CREATED;VALUE=DATE-TIME:20240516T081600Z
LAST-MODIFIED;VALUE=DATE-TIME:20240516T081627Z
LOCATION:Zarautz\, Lege Zaharren Enparantza
URL:https://eizie.eus/eu/agenda/karel-capek-en-arrabioen-gerra-liburuare-a
 urkezpena-literaturian
END:VEVENT
BEGIN:VTIMEZONE
TZID:Europe/Berlin
X-LIC-LOCATION:Europe/Berlin
BEGIN:DAYLIGHT
DTSTART;VALUE=DATE-TIME:20240331T030000
TZNAME:CEST
TZOFFSETFROM:+0100
TZOFFSETTO:+0200
END:DAYLIGHT
END:VTIMEZONE
END:VCALENDAR
