BEGIN:VCALENDAR
VERSION:2.0
PRODID:-//Plone.org//NONSGML plone.app.event//EN
X-WR-TIMEZONE:Europe/Berlin
BEGIN:VEVENT
SUMMARY:Juno Mac-en eta Molly Smith-en 'Puta zikinak'\, Bilbon
DTSTART;TZID=Europe/Berlin;VALUE=DATE-TIME:20230613T193000
DTSTAMP;VALUE=DATE-TIME:20260425T124442Z
UID:0d291fc960d84808852e16e5eb1b3b52@eizievarnish
CATEGORIES:Irakurle taldeak
CREATED;VALUE=DATE-TIME:20230612T094050Z
LAST-MODIFIED;VALUE=DATE-TIME:20230612T094058Z
LOCATION:Müller (Ramón y Cajal\, 42)
URL:https://eizie.eus/eu/agenda/juno-mac-en-eta-molly-smith-en-puta-zikina
 k-bilbon
END:VEVENT
BEGIN:VTIMEZONE
TZID:Europe/Berlin
X-LIC-LOCATION:Europe/Berlin
BEGIN:DAYLIGHT
DTSTART;VALUE=DATE-TIME:20230326T030000
TZNAME:CEST
TZOFFSETFROM:+0100
TZOFFSETTO:+0200
END:DAYLIGHT
END:VTIMEZONE
END:VCALENDAR
