BEGIN:VCALENDAR
VERSION:2.0
PRODID:-//Plone.org//NONSGML plone.app.event//EN
X-WR-TIMEZONE:Europe/Berlin
BEGIN:VEVENT
SUMMARY:Juno Mac-en eta Molly Smith-en 'Puta zikinak'\, Bermeon
DTSTART;TZID=Europe/Berlin;VALUE=DATE-TIME:20230518T190000
DTSTAMP;VALUE=DATE-TIME:20260425T125629Z
UID:98a014bc1dcc4c358753f7acd98d5c26@eizievarnish
CATEGORIES:Ekitaldiak
CREATED;VALUE=DATE-TIME:20230515T074143Z
LAST-MODIFIED;VALUE=DATE-TIME:20230515T104843Z
LOCATION:Kabidxe\, Bermeo
URL:https://eizie.eus/eu/agenda/juno-mac-en-eta-molly-smith-en-puta-zikina
 k-bermeon
END:VEVENT
BEGIN:VTIMEZONE
TZID:Europe/Berlin
X-LIC-LOCATION:Europe/Berlin
BEGIN:DAYLIGHT
DTSTART;VALUE=DATE-TIME:20230326T030000
TZNAME:CEST
TZOFFSETFROM:+0100
TZOFFSETTO:+0200
END:DAYLIGHT
END:VTIMEZONE
END:VCALENDAR
