BEGIN:VCALENDAR
VERSION:2.0
PRODID:-//Plone.org//NONSGML plone.app.event//EN
X-WR-TIMEZONE:Europe/Berlin
BEGIN:VEVENT
SUMMARY:Juliana Léveillé-Trudelen 'Nirliit'\, Donostian
DTSTART;TZID=Europe/Berlin;VALUE=DATE-TIME:20250909T190000
DTSTAMP;VALUE=DATE-TIME:20260425T204840Z
UID:aa01815da3d141c08e3d1e9ac1c212c4@eizievarnish
CATEGORIES:Irakurle taldeak
CREATED;VALUE=DATE-TIME:20250903T140700Z
LAST-MODIFIED;VALUE=DATE-TIME:20250903T140711Z
LOCATION:Donostiako Liburutegi Nagusia (San Jeronimo)
URL:https://eizie.eus/eu/agenda/juliana-leveille-trudelen-nirliit-donostia
 n
END:VEVENT
BEGIN:VTIMEZONE
TZID:Europe/Berlin
X-LIC-LOCATION:Europe/Berlin
BEGIN:DAYLIGHT
DTSTART;VALUE=DATE-TIME:20250330T030000
TZNAME:CEST
TZOFFSETFROM:+0100
TZOFFSETTO:+0200
END:DAYLIGHT
END:VTIMEZONE
END:VCALENDAR
