BEGIN:VCALENDAR
VERSION:2.0
PRODID:-//Plone.org//NONSGML plone.app.event//EN
X-WR-TIMEZONE:Europe/Berlin
BEGIN:VEVENT
SUMMARY:Juana Doloresen 'Girgileria' - Aurkezpen-errezitaldiak
DTSTART;TZID=Europe/Berlin;VALUE=DATE-TIME:20241119T190000
DTEND;TZID=Europe/Berlin;VALUE=DATE-TIME:20241120T210000
DTSTAMP;VALUE=DATE-TIME:20260425T204840Z
UID:97d53823910f453db3871982a37830dc@eizievarnish
CATEGORIES:Ekitaldiak
CREATED;VALUE=DATE-TIME:20241104T153153Z
LAST-MODIFIED;VALUE=DATE-TIME:20241111T095517Z
LOCATION:Gasteiz: Liburutopia / Iruñea: Katakrak
URL:https://eizie.eus/eu/agenda/juana-doloresen-girgileria-aurkezpena-irun
 ean
END:VEVENT
BEGIN:VTIMEZONE
TZID:Europe/Berlin
X-LIC-LOCATION:Europe/Berlin
BEGIN:STANDARD
DTSTART;VALUE=DATE-TIME:20241027T020000
TZNAME:CET
TZOFFSETFROM:+0200
TZOFFSETTO:+0100
END:STANDARD
END:VTIMEZONE
END:VCALENDAR
