BEGIN:VCALENDAR
VERSION:2.0
PRODID:-//Plone.org//NONSGML plone.app.event//EN
X-WR-TIMEZONE:Europe/Berlin
BEGIN:VEVENT
SUMMARY:Juana Doloresen 'Girgileria' - Aurkezpena\, Donostian
DTSTART;TZID=Europe/Berlin;VALUE=DATE-TIME:20240606T110000
DTSTAMP;VALUE=DATE-TIME:20260425T204955Z
UID:807d9ae7bec640a6a82d9f05e544e1c8@eizievarnish
CATEGORIES:Ekitaldiak
CREATED;VALUE=DATE-TIME:20240531T113224Z
LAST-MODIFIED;VALUE=DATE-TIME:20240604T081600Z
LOCATION:Plaza Berriko liburutegiko Mandas aretoan
URL:https://eizie.eus/eu/agenda/juana-doloresen-girgileria-aurkezpena-dono
 stian
END:VEVENT
BEGIN:VTIMEZONE
TZID:Europe/Berlin
X-LIC-LOCATION:Europe/Berlin
BEGIN:DAYLIGHT
DTSTART;VALUE=DATE-TIME:20240331T030000
TZNAME:CEST
TZOFFSETFROM:+0100
TZOFFSETTO:+0200
END:DAYLIGHT
END:VTIMEZONE
END:VCALENDAR
