BEGIN:VCALENDAR
VERSION:2.0
PRODID:-//Plone.org//NONSGML plone.app.event//EN
X-WR-TIMEZONE:Europe/Berlin
BEGIN:VEVENT
SUMMARY:Joyce Carol Oatesen 'Bortxaketa. Amodiozko istorio bat'\, Ean
DTSTART;TZID=Europe/Berlin;VALUE=DATE-TIME:20241115T190000
DTSTAMP;VALUE=DATE-TIME:20260425T185926Z
UID:410d49d5b2034cfb97d0206dd8da29e8@eizievarnish
CATEGORIES:Irakurle taldeak
CREATED;VALUE=DATE-TIME:20241114T104320Z
LAST-MODIFIED;VALUE=DATE-TIME:20241114T104328Z
LOCATION:Eskalondo
URL:https://eizie.eus/eu/agenda/joyce-carol-oatesen-bortxaketa-amodiozko-i
 storio-bat-ean
END:VEVENT
BEGIN:VTIMEZONE
TZID:Europe/Berlin
X-LIC-LOCATION:Europe/Berlin
BEGIN:STANDARD
DTSTART;VALUE=DATE-TIME:20241027T020000
TZNAME:CET
TZOFFSETFROM:+0200
TZOFFSETTO:+0100
END:STANDARD
END:VTIMEZONE
END:VCALENDAR
