BEGIN:VCALENDAR
VERSION:2.0
PRODID:-//Plone.org//NONSGML plone.app.event//EN
X-WR-TIMEZONE:Europe/Berlin
BEGIN:VEVENT
SUMMARY:Jon Fosseren 'Trilogia' - Aurkezpena
DTSTART;TZID=Europe/Berlin;VALUE=DATE-TIME:20241113T120000
DTSTAMP;VALUE=DATE-TIME:20260425T185720Z
UID:bd721a81d6d641dfae6446e21dd768f2@eizievarnish
CATEGORIES:Ekitaldiak
CREATED;VALUE=DATE-TIME:20241111T113723Z
LAST-MODIFIED;VALUE=DATE-TIME:20241111T113741Z
LOCATION:Elkar liburu-denda\, Donostia (Fermin Kalbeton kalea)
URL:https://eizie.eus/eu/agenda/jon-fosseren-trilogia-aurkezpena
END:VEVENT
BEGIN:VTIMEZONE
TZID:Europe/Berlin
X-LIC-LOCATION:Europe/Berlin
BEGIN:STANDARD
DTSTART;VALUE=DATE-TIME:20241027T020000
TZNAME:CET
TZOFFSETFROM:+0200
TZOFFSETTO:+0100
END:STANDARD
END:VTIMEZONE
END:VCALENDAR
