BEGIN:VCALENDAR
VERSION:2.0
PRODID:-//Plone.org//NONSGML plone.app.event//EN
X-WR-TIMEZONE:Europe/Berlin
BEGIN:VEVENT
SUMMARY:John Steinbeck-en 'Saguak eta gizonak'\, Gasteizen
DTSTART;TZID=Europe/Berlin;VALUE=DATE-TIME:20240613T190000
DTSTAMP;VALUE=DATE-TIME:20260425T204740Z
UID:35cdd20cf48e42228f3efb5563c55dd1@eizievarnish
CATEGORIES:Irakurle taldeak
CREATED;VALUE=DATE-TIME:20240613T130325Z
LAST-MODIFIED;VALUE=DATE-TIME:20240613T130343Z
LOCATION:Eva Forest liburutopia\, Gasteiz
URL:https://eizie.eus/eu/agenda/john-steinbeck-en-saguak-eta-gizonak-gaste
 izen
END:VEVENT
BEGIN:VTIMEZONE
TZID:Europe/Berlin
X-LIC-LOCATION:Europe/Berlin
BEGIN:DAYLIGHT
DTSTART;VALUE=DATE-TIME:20240331T030000
TZNAME:CEST
TZOFFSETFROM:+0100
TZOFFSETTO:+0200
END:DAYLIGHT
END:VTIMEZONE
END:VCALENDAR
