BEGIN:VCALENDAR
VERSION:2.0
PRODID:-//Plone.org//NONSGML plone.app.event//EN
X-WR-TIMEZONE:Europe/Berlin
BEGIN:VEVENT
SUMMARY:Joe Saccoren 'Palestina' eta Perry Andersonen 'Palestinaren okupaz
 ioaz eta kolonizazioaz' liburuak Iruñeko Liburu Azokan
DTSTART;TZID=Europe/Berlin;VALUE=DATE-TIME:20240531T173000
DTSTAMP;VALUE=DATE-TIME:20260425T224634Z
UID:3ab464c8e89e49aa99b82e4d50fed945@eizievarnish
CREATED;VALUE=DATE-TIME:20240531T114719Z
LAST-MODIFIED;VALUE=DATE-TIME:20240531T114805Z
LOCATION:Iruñeko Liburu Azoka
URL:https://eizie.eus/eu/agenda/joe-saccoren-palestina-eta-perry-andersone
 n-palestinaren-okupazioaz-eta-kolonizazioaz-liburuak-iruneko-liburu-azokan
END:VEVENT
BEGIN:VTIMEZONE
TZID:Europe/Berlin
X-LIC-LOCATION:Europe/Berlin
BEGIN:DAYLIGHT
DTSTART;VALUE=DATE-TIME:20240331T030000
TZNAME:CEST
TZOFFSETFROM:+0100
TZOFFSETTO:+0200
END:DAYLIGHT
END:VTIMEZONE
END:VCALENDAR
