BEGIN:VCALENDAR
VERSION:2.0
PRODID:-//Plone.org//NONSGML plone.app.event//EN
X-WR-TIMEZONE:Europe/Berlin
BEGIN:VEVENT
SUMMARY:James Joyceren 'Ulises'\, Iruñean
DTSTART;TZID=Europe/Berlin;VALUE=DATE-TIME:20230530T190000
DTSTAMP;VALUE=DATE-TIME:20260425T124338Z
UID:69c41ba2600246818b0f345746ccb512@eizievarnish
CATEGORIES:Irakurle taldeak
CREATED;VALUE=DATE-TIME:20230530T111031Z
LAST-MODIFIED;VALUE=DATE-TIME:20230530T111046Z
LOCATION:Campana taberna
URL:https://eizie.eus/eu/agenda/james-joyceren-ulises-irunean-4
END:VEVENT
BEGIN:VTIMEZONE
TZID:Europe/Berlin
X-LIC-LOCATION:Europe/Berlin
BEGIN:DAYLIGHT
DTSTART;VALUE=DATE-TIME:20230326T030000
TZNAME:CEST
TZOFFSETFROM:+0100
TZOFFSETTO:+0200
END:DAYLIGHT
END:VTIMEZONE
END:VCALENDAR
