BEGIN:VCALENDAR
VERSION:2.0
PRODID:-//Plone.org//NONSGML plone.app.event//EN
X-WR-TIMEZONE:Europe/Berlin
BEGIN:VEVENT
SUMMARY:Itzulpengintzaren 3. topaketak\, Baionan
DTSTART;VALUE=DATE:20240926
DTEND;VALUE=DATE:20240928
DTSTAMP;VALUE=DATE-TIME:20260423T185744Z
UID:0a0a50b862584b8f9eb69d6fb8b2f65a@eizieplone
CATEGORIES:Ekitaldiak
CREATED;VALUE=DATE-TIME:20240912T085154Z
LAST-MODIFIED;VALUE=DATE-TIME:20240917T142213Z
LOCATION:Baiona
URL:https://eizie.eus/eu/agenda/itzulpengintzaren-3-topaketak
END:VEVENT
END:VCALENDAR
