BEGIN:VCALENDAR
VERSION:2.0
PRODID:-//Plone.org//NONSGML plone.app.event//EN
X-WR-TIMEZONE:Europe/Berlin
BEGIN:VEVENT
SUMMARY:Itzulpengintza eta Interpretazioko Ikasketen Iberiar Elkartearen X
 I. Kongresua
DTSTART;TZID=Europe/Berlin;VALUE=DATE-TIME:20240529T090000
DTEND;TZID=Europe/Berlin;VALUE=DATE-TIME:20240531T203000
DTSTAMP;VALUE=DATE-TIME:20260425T224439Z
UID:fea315872d5a41898a4d5a00f1cc9df6@eizievarnish
CATEGORIES:Ekitaldiak
CREATED;VALUE=DATE-TIME:20240322T093318Z
LAST-MODIFIED;VALUE=DATE-TIME:20240322T093514Z
LOCATION:Letren Fakultatea\, Gasteiz
URL:https://eizie.eus/eu/agenda/itzulpengintza-eta-interpretazioko-ikasket
 en-iberiar-elkartearen-xi-kongresua
END:VEVENT
BEGIN:VTIMEZONE
TZID:Europe/Berlin
X-LIC-LOCATION:Europe/Berlin
BEGIN:DAYLIGHT
DTSTART;VALUE=DATE-TIME:20240331T030000
TZNAME:CEST
TZOFFSETFROM:+0100
TZOFFSETTO:+0200
END:DAYLIGHT
END:VTIMEZONE
END:VCALENDAR
