BEGIN:VCALENDAR
VERSION:2.0
PRODID:-//Plone.org//NONSGML plone.app.event//EN
X-WR-TIMEZONE:Europe/Berlin
BEGIN:VEVENT
SUMMARY:«Itzulpena ez da neutrala\, itzultzailea ere ez» ikastaroa (Dono
 stia)
DTSTART;TZID=Europe/Berlin;VALUE=DATE-TIME:20241008T160000
DTEND;TZID=Europe/Berlin;VALUE=DATE-TIME:20241009T193000
DTSTAMP;VALUE=DATE-TIME:20260423T204529Z
UID:09c9119d36f645f4a5f285eb21f10fee@eizieplone
CATEGORIES:Ikastaroak
CREATED;VALUE=DATE-TIME:20240918T093029Z
LAST-MODIFIED;VALUE=DATE-TIME:20241004T084252Z
LOCATION:Euskaltzaindiaren egoitza\, Donostia
URL:https://eizie.eus/eu/agenda/itzulpena-ez-da-neutrala-itzultzailea-ere-
 ez-ikuspegi-transfeministak-itzulpengintzan-txertatzeaz-ikastaroa-donostia
END:VEVENT
BEGIN:VTIMEZONE
TZID:Europe/Berlin
X-LIC-LOCATION:Europe/Berlin
BEGIN:DAYLIGHT
DTSTART;VALUE=DATE-TIME:20240331T030000
TZNAME:CEST
TZOFFSETFROM:+0100
TZOFFSETTO:+0200
END:DAYLIGHT
END:VTIMEZONE
END:VCALENDAR
