BEGIN:VCALENDAR
VERSION:2.0
PRODID:-//Plone.org//NONSGML plone.app.event//EN
X-WR-TIMEZONE:Europe/Berlin
BEGIN:VEVENT
SUMMARY:«Itzulpena ez da neutrala\, itzultzailea ere ez» ikastaroa (Bilb
 o)
DTSTART;TZID=Europe/Berlin;VALUE=DATE-TIME:20241022T160000
DTEND;TZID=Europe/Berlin;VALUE=DATE-TIME:20241023T193000
DTSTAMP;VALUE=DATE-TIME:20260423T191150Z
UID:b826178f535a40b1aee1c2aea8d6d1d1@eizieplone
CATEGORIES:Ekitaldiak
CREATED;VALUE=DATE-TIME:20240918T094122Z
LAST-MODIFIED;VALUE=DATE-TIME:20241004T084231Z
LOCATION:Euskararen Etxea\, Bilbo
URL:https://eizie.eus/eu/agenda/itzulpena-ez-da-neutrala-itzultzailea-ere-
 ez-ikuspegi-transfeministak-itzulpengintzan-txertatzeaz-ikastaroa-bilbo
END:VEVENT
BEGIN:VTIMEZONE
TZID:Europe/Berlin
X-LIC-LOCATION:Europe/Berlin
BEGIN:DAYLIGHT
DTSTART;VALUE=DATE-TIME:20240331T030000
TZNAME:CEST
TZOFFSETFROM:+0100
TZOFFSETTO:+0200
END:DAYLIGHT
END:VTIMEZONE
END:VCALENDAR
