BEGIN:VCALENDAR
VERSION:2.0
PRODID:-//Plone.org//NONSGML plone.app.event//EN
X-WR-TIMEZONE:Europe/Berlin
BEGIN:VEVENT
SUMMARY:Irene Nemirovskyren 'Dantzaldia'\, Alegian
DTSTART;TZID=Europe/Berlin;VALUE=DATE-TIME:20230601T180000
DTSTAMP;VALUE=DATE-TIME:20260425T123222Z
UID:5532f856ba1148ada9dce270f08e759d@eizievarnish
CATEGORIES:Irakurle taldeak
CREATED;VALUE=DATE-TIME:20230601T093644Z
LAST-MODIFIED;VALUE=DATE-TIME:20230601T093649Z
LOCATION:Udal Liburutegia\, Alegia
URL:https://eizie.eus/eu/agenda/irene-nemirovskyren-dantzaldia-alegian
END:VEVENT
BEGIN:VTIMEZONE
TZID:Europe/Berlin
X-LIC-LOCATION:Europe/Berlin
BEGIN:DAYLIGHT
DTSTART;VALUE=DATE-TIME:20230326T030000
TZNAME:CEST
TZOFFSETFROM:+0100
TZOFFSETTO:+0200
END:DAYLIGHT
END:VTIMEZONE
END:VCALENDAR
