BEGIN:VCALENDAR
VERSION:2.0
PRODID:-//Plone.org//NONSGML plone.app.event//EN
X-WR-TIMEZONE:Europe/Berlin
BEGIN:VEVENT
SUMMARY:Ingeborg Bachmann-en 'Aldibereko'\, Leioan
DTSTART;TZID=Europe/Berlin;VALUE=DATE-TIME:20230516T183000
DTEND;TZID=Europe/Berlin;VALUE=DATE-TIME:20230516T200000
DTSTAMP;VALUE=DATE-TIME:20260425T124007Z
UID:c11b9dff722c4c6e8e4537c3bedd6e64@eizievarnish
CATEGORIES:Irakurle taldeak
CREATED;VALUE=DATE-TIME:20230516T111643Z
LAST-MODIFIED;VALUE=DATE-TIME:20230516T112342Z
LOCATION:Leioako Udal Liburutegi Publikoa
URL:https://eizie.eus/eu/agenda/ingerborg-bachmann-en-aldibereko-leioan
END:VEVENT
BEGIN:VTIMEZONE
TZID:Europe/Berlin
X-LIC-LOCATION:Europe/Berlin
BEGIN:DAYLIGHT
DTSTART;VALUE=DATE-TIME:20230326T030000
TZNAME:CEST
TZOFFSETFROM:+0100
TZOFFSETTO:+0200
END:DAYLIGHT
END:VTIMEZONE
END:VCALENDAR
