BEGIN:VCALENDAR
VERSION:2.0
PRODID:-//Plone.org//NONSGML plone.app.event//EN
X-WR-TIMEZONE:Europe/Berlin
BEGIN:VEVENT
SUMMARY:Ibon Martínen 'Kaioen ordua'- Liburuaren aurkezpena Donostian
DTSTART;TZID=Europe/Berlin;VALUE=DATE-TIME:20240606T103000
DTSTAMP;VALUE=DATE-TIME:20260425T205208Z
UID:2294b4eea3334962937bccbe0fd9e3fe@eizievarnish
CATEGORIES:Ekitaldiak
CREATED;VALUE=DATE-TIME:20240531T114120Z
LAST-MODIFIED;VALUE=DATE-TIME:20240531T114130Z
LOCATION:Elkar liburu-denda\, Donostia (Fermin Kalbeton kalea)
URL:https://eizie.eus/eu/agenda/ibon-martinen-kaioen-ordua-liburuaren-aurk
 ezpena-donostian
END:VEVENT
BEGIN:VTIMEZONE
TZID:Europe/Berlin
X-LIC-LOCATION:Europe/Berlin
BEGIN:DAYLIGHT
DTSTART;VALUE=DATE-TIME:20240331T030000
TZNAME:CEST
TZOFFSETFROM:+0100
TZOFFSETTO:+0200
END:DAYLIGHT
END:VTIMEZONE
END:VCALENDAR
