BEGIN:VCALENDAR
VERSION:2.0
PRODID:-//Plone.org//NONSGML plone.app.event//EN
X-WR-TIMEZONE:Europe/Berlin
BEGIN:VEVENT
SUMMARY:«Hizkera ez-sexista euskara-gaztelania itzulpenean: maskulino gen
 erikoa ekiditeko teknikak» ikastaroa
DTSTART;TZID=Europe/Berlin;VALUE=DATE-TIME:20251001T163000
DTEND;TZID=Europe/Berlin;VALUE=DATE-TIME:20251002T193000
DTSTAMP;VALUE=DATE-TIME:20260425T210037Z
UID:d0a5c9eb0e41441ca5f75590f2b48925@eizievarnish
CATEGORIES:Ikastaroak
CREATED;VALUE=DATE-TIME:20250910T075852Z
LAST-MODIFIED;VALUE=DATE-TIME:20250910T080058Z
LOCATION:Donostia\, Euskaltzaindiaren egoitza
URL:https://eizie.eus/eu/agenda/hizkera-ez-sexista-euskara-gaztelania-itzu
 lpenean-maskulino-generikoa-ekiditeko-teknikak-ikastaroa
END:VEVENT
BEGIN:VTIMEZONE
TZID:Europe/Berlin
X-LIC-LOCATION:Europe/Berlin
BEGIN:DAYLIGHT
DTSTART;VALUE=DATE-TIME:20250330T030000
TZNAME:CEST
TZOFFSETFROM:+0100
TZOFFSETTO:+0200
END:DAYLIGHT
END:VTIMEZONE
END:VCALENDAR
