BEGIN:VCALENDAR
VERSION:2.0
PRODID:-//Plone.org//NONSGML plone.app.event//EN
X-WR-TIMEZONE:Europe/Berlin
BEGIN:VEVENT
SUMMARY:«Hitz elkartuak. Lotuta\, marratxoarekin\, bereizita?» ikastaroa
  (online)
DTSTART;TZID=Europe/Berlin;VALUE=DATE-TIME:20250611T163000
DTEND;TZID=Europe/Berlin;VALUE=DATE-TIME:20250611T183000
DTSTAMP;VALUE=DATE-TIME:20260425T205737Z
UID:df51f5020e634bea93c6a6e004b5f468@eizievarnish
CATEGORIES:Ikastaroak
CREATED;VALUE=DATE-TIME:20250521T100631Z
LAST-MODIFIED;VALUE=DATE-TIME:20250521T101525Z
LOCATION:ZOOM plataforma
URL:https://eizie.eus/eu/agenda/hitz-elkartuak-lotuta-marratxoarekin-berei
 zita-ikastaroa-online
END:VEVENT
BEGIN:VTIMEZONE
TZID:Europe/Berlin
X-LIC-LOCATION:Europe/Berlin
BEGIN:DAYLIGHT
DTSTART;VALUE=DATE-TIME:20250330T030000
TZNAME:CEST
TZOFFSETFROM:+0100
TZOFFSETTO:+0200
END:DAYLIGHT
END:VTIMEZONE
END:VCALENDAR
