BEGIN:VCALENDAR
VERSION:2.0
PRODID:-//Plone.org//NONSGML plone.app.event//EN
X-WR-TIMEZONE:Europe/Berlin
BEGIN:VEVENT
SUMMARY:«Hitanoa» ikastaroa (online)
DTSTART;TZID=Europe/Berlin;VALUE=DATE-TIME:20240528T163000
DTEND;TZID=Europe/Berlin;VALUE=DATE-TIME:20240528T180000
DTSTAMP;VALUE=DATE-TIME:20260425T204539Z
UID:9651dc4875ad4dc9904ba94e63cae775@eizievarnish
CATEGORIES:Ikastaroak
CREATED;VALUE=DATE-TIME:20240514T091814Z
LAST-MODIFIED;VALUE=DATE-TIME:20240514T091820Z
LOCATION:Zoom plataforma
URL:https://eizie.eus/eu/agenda/hitanoa-ikastaroa-online
END:VEVENT
BEGIN:VTIMEZONE
TZID:Europe/Berlin
X-LIC-LOCATION:Europe/Berlin
BEGIN:DAYLIGHT
DTSTART;VALUE=DATE-TIME:20240331T030000
TZNAME:CEST
TZOFFSETFROM:+0100
TZOFFSETTO:+0200
END:DAYLIGHT
END:VTIMEZONE
END:VCALENDAR
