BEGIN:VCALENDAR
VERSION:2.0
PRODID:-//Plone.org//NONSGML plone.app.event//EN
X-WR-TIMEZONE:Europe/Berlin
BEGIN:VEVENT
SUMMARY:Herman Melvilleren 'Moby Dick' liburuaren aurkezpena\, Alkizan
DTSTART;TZID=Europe/Berlin;VALUE=DATE-TIME:20250928T120000
DTSTAMP;VALUE=DATE-TIME:20260425T205552Z
UID:20dd2df7578e49dca86106e1c22bf5d0@eizievarnish
CREATED;VALUE=DATE-TIME:20250915T073014Z
LAST-MODIFIED;VALUE=DATE-TIME:20250915T073351Z
LOCATION:Ur Mara museoa
URL:https://eizie.eus/eu/agenda/herman-melvilleren-moby-dick-liburuaren-au
 rkezpena-alkizan
END:VEVENT
BEGIN:VTIMEZONE
TZID:Europe/Berlin
X-LIC-LOCATION:Europe/Berlin
BEGIN:DAYLIGHT
DTSTART;VALUE=DATE-TIME:20250330T030000
TZNAME:CEST
TZOFFSETFROM:+0100
TZOFFSETTO:+0200
END:DAYLIGHT
END:VTIMEZONE
END:VCALENDAR
