BEGIN:VCALENDAR
VERSION:2.0
PRODID:-//Plone.org//NONSGML plone.app.event//EN
X-WR-TIMEZONE:Europe/Berlin
BEGIN:VEVENT
SUMMARY:'Heptamerona' itzulpen automatikoaren garaian» saioa
DTSTART;TZID=Europe/Berlin;VALUE=DATE-TIME:20240917T180000
DTSTAMP;VALUE=DATE-TIME:20260423T190325Z
UID:e4650c8a43e042d1b8136539dbce2977@eizieplone
CATEGORIES:Ekitaldiak
CREATED;VALUE=DATE-TIME:20240912T084327Z
LAST-MODIFIED;VALUE=DATE-TIME:20240912T084500Z
LOCATION:Torrekua\, Errenteria
URL:https://eizie.eus/eu/agenda/heptamerona-itzulpen-automatikoaren-garaia
 n-saioa
END:VEVENT
BEGIN:VTIMEZONE
TZID:Europe/Berlin
X-LIC-LOCATION:Europe/Berlin
BEGIN:DAYLIGHT
DTSTART;VALUE=DATE-TIME:20240331T030000
TZNAME:CEST
TZOFFSETFROM:+0100
TZOFFSETTO:+0200
END:DAYLIGHT
END:VTIMEZONE
END:VCALENDAR
