BEGIN:VCALENDAR
VERSION:2.0
PRODID:-//Plone.org//NONSGML plone.app.event//EN
X-WR-TIMEZONE:Europe/Berlin
BEGIN:VEVENT
SUMMARY:'Heptamerona': Borzgarren Egunaren irakurraldia\, Altsasun
DTSTART;TZID=Europe/Berlin;VALUE=DATE-TIME:20251004T100000
DTSTAMP;VALUE=DATE-TIME:20260425T205209Z
UID:95d72b3b4d39473d8e7fd93c77405b1d@eizievarnish
CATEGORIES:Ekitaldiak
CREATED;VALUE=DATE-TIME:20251002T132958Z
LAST-MODIFIED;VALUE=DATE-TIME:20251002T133019Z
LOCATION:Iorta kulturgunea
URL:https://eizie.eus/eu/agenda/heptamerona-borzgarren-egunaren-irakurrald
 ia-altsasun
END:VEVENT
BEGIN:VTIMEZONE
TZID:Europe/Berlin
X-LIC-LOCATION:Europe/Berlin
BEGIN:DAYLIGHT
DTSTART;VALUE=DATE-TIME:20250330T030000
TZNAME:CEST
TZOFFSETFROM:+0100
TZOFFSETTO:+0200
END:DAYLIGHT
END:VTIMEZONE
END:VCALENDAR
