BEGIN:VCALENDAR
VERSION:2.0
PRODID:-//Plone.org//NONSGML plone.app.event//EN
X-WR-TIMEZONE:Europe/Berlin
BEGIN:VEVENT
SUMMARY:Auritzetik Orbaizetako Olara ibilbidea 'Fiesta: Eguzkia jaikitzen 
 da' nobelako pasarteak irakurriz
DTSTART;TZID=Europe/Berlin;VALUE=DATE-TIME:20240728T120000
DTSTAMP;VALUE=DATE-TIME:20260423T192119Z
UID:1c7ce4f9d5484500becd8788034dce5d@eizieplone
CATEGORIES:Ekitaldiak,Literatura unibertsala
CREATED;VALUE=DATE-TIME:20240718T151600Z
LAST-MODIFIED;VALUE=DATE-TIME:20240718T152208Z
LOCATION:Auritz
URL:https://eizie.eus/eu/agenda/hemingway-iratin-auritzetik-orbaizetako-ol
 ara-ibilbidea-fiesta-eguzkia-jaikitzen-da-nobelako-pasarteak-irakurriz
END:VEVENT
BEGIN:VTIMEZONE
TZID:Europe/Berlin
X-LIC-LOCATION:Europe/Berlin
BEGIN:DAYLIGHT
DTSTART;VALUE=DATE-TIME:20240331T030000
TZNAME:CEST
TZOFFSETFROM:+0100
TZOFFSETTO:+0200
END:DAYLIGHT
END:VTIMEZONE
END:VCALENDAR
