BEGIN:VCALENDAR
VERSION:2.0
PRODID:-//Plone.org//NONSGML plone.app.event//EN
X-WR-TIMEZONE:Europe/Berlin
BEGIN:VEVENT
SUMMARY:Hannah Arendt-en 'Eichmann Jerusalemem' - Aurkezpemna\, Donostian
DTSTART;TZID=Europe/Berlin;VALUE=DATE-TIME:20230517T113000
DTSTAMP;VALUE=DATE-TIME:20260425T125809Z
UID:e5fa2db05e624664a55c5a8261f1bfbc@eizievarnish
CATEGORIES:Ekitaldiak
CREATED;VALUE=DATE-TIME:20230508T081803Z
LAST-MODIFIED;VALUE=DATE-TIME:20230508T081912Z
LOCATION:Liburutegi Nagusia\, Konstituzio plaza\, Donostia
URL:https://eizie.eus/eu/agenda/hannah-arendt-en-eichmann-jerusalemem-aurk
 ezpemna-donostian
END:VEVENT
BEGIN:VTIMEZONE
TZID:Europe/Berlin
X-LIC-LOCATION:Europe/Berlin
BEGIN:DAYLIGHT
DTSTART;VALUE=DATE-TIME:20230326T030000
TZNAME:CEST
TZOFFSETFROM:+0100
TZOFFSETTO:+0200
END:DAYLIGHT
END:VTIMEZONE
END:VCALENDAR
