BEGIN:VCALENDAR
VERSION:2.0
PRODID:-//Plone.org//NONSGML plone.app.event//EN
X-WR-TIMEZONE:Europe/Berlin
BEGIN:VEVENT
SUMMARY:'Garaikidetasunaren krisia' zikloa: 'Literatura-itzulpengintza\, h
 izkuntza gutxituentzako laguntza' hitzaldia
DTSTART;TZID=Europe/Berlin;VALUE=DATE-TIME:20240530T190000
DTSTAMP;VALUE=DATE-TIME:20260425T210058Z
UID:081db86ea6f14c2c80987ee82015c79d@eizievarnish
CATEGORIES:Ekitaldiak
CREATED;VALUE=DATE-TIME:20240521T083515Z
LAST-MODIFIED;VALUE=DATE-TIME:20240521T083532Z
LOCATION:KMKko Santa Teresa Ekitaldi Aretoa
URL:https://eizie.eus/eu/agenda/garaikidetasunaren-krisia-zikloa-literatur
 a-itzulpengintza-hizkuntza-gutxituentzako-laguntza-hitzaldia
END:VEVENT
BEGIN:VTIMEZONE
TZID:Europe/Berlin
X-LIC-LOCATION:Europe/Berlin
BEGIN:DAYLIGHT
DTSTART;VALUE=DATE-TIME:20240331T030000
TZNAME:CEST
TZOFFSETFROM:+0100
TZOFFSETTO:+0200
END:DAYLIGHT
END:VTIMEZONE
END:VCALENDAR
