BEGIN:VCALENDAR
VERSION:2.0
PRODID:-//Plone.org//NONSGML plone.app.event//EN
X-WR-TIMEZONE:Europe/Berlin
BEGIN:VEVENT
SUMMARY:Gaito Gazdanov-en 'Alexander Wolfen mamua'\, Ean
DTSTART;TZID=Europe/Berlin;VALUE=DATE-TIME:20230616T193000
DTSTAMP;VALUE=DATE-TIME:20260425T125727Z
UID:a19c1b21bb5f4d95862d288c12713662@eizievarnish
CATEGORIES:Irakurle taldeak
CREATED;VALUE=DATE-TIME:20230612T103808Z
LAST-MODIFIED;VALUE=DATE-TIME:20230612T103811Z
LOCATION:Eskalondo\, Ea
URL:https://eizie.eus/eu/agenda/gaito-gazdanov-en-alexander-wolfen-mamua-e
 an
END:VEVENT
BEGIN:VTIMEZONE
TZID:Europe/Berlin
X-LIC-LOCATION:Europe/Berlin
BEGIN:DAYLIGHT
DTSTART;VALUE=DATE-TIME:20230326T030000
TZNAME:CEST
TZOFFSETFROM:+0100
TZOFFSETTO:+0200
END:DAYLIGHT
END:VTIMEZONE
END:VCALENDAR
