BEGIN:VCALENDAR
VERSION:2.0
PRODID:-//Plone.org//NONSGML plone.app.event//EN
X-WR-TIMEZONE:Europe/Berlin
BEGIN:VEVENT
SUMMARY:Felix Urabayenen 'Auzo madarikatua'\, Iruñean
DTSTART;TZID=Europe/Berlin;VALUE=DATE-TIME:20251002T193000
DTSTAMP;VALUE=DATE-TIME:20260425T204806Z
UID:f127b7a26e2c4a54a682466fe007be54@eizievarnish
CATEGORIES:Irakurle taldeak
CREATED;VALUE=DATE-TIME:20251002T132416Z
LAST-MODIFIED;VALUE=DATE-TIME:20251002T132422Z
LOCATION:Zaldiko Maldiko
URL:https://eizie.eus/eu/agenda/felix-urabayenen-auzo-madarikatua-irunean
END:VEVENT
BEGIN:VTIMEZONE
TZID:Europe/Berlin
X-LIC-LOCATION:Europe/Berlin
BEGIN:DAYLIGHT
DTSTART;VALUE=DATE-TIME:20250330T030000
TZNAME:CEST
TZOFFSETFROM:+0100
TZOFFSETTO:+0200
END:DAYLIGHT
END:VTIMEZONE
END:VCALENDAR
