BEGIN:VCALENDAR
VERSION:2.0
PRODID:-//Plone.org//NONSGML plone.app.event//EN
X-WR-TIMEZONE:Europe/Berlin
BEGIN:VEVENT
SUMMARY:Felix Urabayenen 'Auzo madarikatua' - Aurkezpena Iruñean
DTSTART;TZID=Europe/Berlin;VALUE=DATE-TIME:20250610T200000
DTSTAMP;VALUE=DATE-TIME:20260425T205208Z
UID:a36b450a9f9d4d48a156bb160b28f2fe@eizievarnish
CATEGORIES:Ekitaldiak
CREATED;VALUE=DATE-TIME:20250610T133632Z
LAST-MODIFIED;VALUE=DATE-TIME:20250610T133637Z
LOCATION:Zaldiko Maldiko
URL:https://eizie.eus/eu/agenda/felix-urabayenen-auzo-madarikatua-aurkezpe
 na-irunean
END:VEVENT
BEGIN:VTIMEZONE
TZID:Europe/Berlin
X-LIC-LOCATION:Europe/Berlin
BEGIN:DAYLIGHT
DTSTART;VALUE=DATE-TIME:20250330T030000
TZNAME:CEST
TZOFFSETFROM:+0100
TZOFFSETTO:+0200
END:DAYLIGHT
END:VTIMEZONE
END:VCALENDAR
