BEGIN:VCALENDAR
VERSION:2.0
PRODID:-//Plone.org//NONSGML plone.app.event//EN
X-WR-TIMEZONE:Europe/Berlin
BEGIN:VEVENT
SUMMARY:Eyal Weizman-en 'Hiri-gerra Palestinan' - Aurkezpena
DTSTART;TZID=Europe/Berlin;VALUE=DATE-TIME:20241017T103000
DTSTAMP;VALUE=DATE-TIME:20260423T191114Z
UID:fe7d38bfe3dd4d80868b0f573368252c@eizieplone
CATEGORIES:Ekitaldiak
CREATED;VALUE=DATE-TIME:20241014T092552Z
LAST-MODIFIED;VALUE=DATE-TIME:20241014T092556Z
LOCATION:Donostiako Liburutegi Nagusia
URL:https://eizie.eus/eu/agenda/eyal-weizman-en-hiri-gerra-palestinan-aurk
 ezpena
END:VEVENT
BEGIN:VTIMEZONE
TZID:Europe/Berlin
X-LIC-LOCATION:Europe/Berlin
BEGIN:DAYLIGHT
DTSTART;VALUE=DATE-TIME:20240331T030000
TZNAME:CEST
TZOFFSETFROM:+0100
TZOFFSETTO:+0200
END:DAYLIGHT
END:VTIMEZONE
END:VCALENDAR
