BEGIN:VCALENDAR
VERSION:2.0
PRODID:-//Plone.org//NONSGML plone.app.event//EN
X-WR-TIMEZONE:Europe/Berlin
BEGIN:VEVENT
SUMMARY:Eyal Weizman-en 'Hiri-gerra Palestinan' - Aurkezpena
DTSTART;TZID=Europe/Berlin;VALUE=DATE-TIME:20241122T190000
DTSTAMP;VALUE=DATE-TIME:20260425T205042Z
UID:4616ff11bb14431589a2c385f089aba1@eizievarnish
CATEGORIES:Ekitaldiak
CREATED;VALUE=DATE-TIME:20241120T140833Z
LAST-MODIFIED;VALUE=DATE-TIME:20241120T140839Z
LOCATION:Zirika herri gunea\, Bilbo
URL:https://eizie.eus/eu/agenda/eyal-weizman-en-hiri-gerra-palestinan-aurk
 ezpena-1
END:VEVENT
BEGIN:VTIMEZONE
TZID:Europe/Berlin
X-LIC-LOCATION:Europe/Berlin
BEGIN:STANDARD
DTSTART;VALUE=DATE-TIME:20241027T020000
TZNAME:CET
TZOFFSETFROM:+0200
TZOFFSETTO:+0100
END:STANDARD
END:VTIMEZONE
END:VCALENDAR
