BEGIN:VCALENDAR
VERSION:2.0
PRODID:-//Plone.org//NONSGML plone.app.event//EN
X-WR-TIMEZONE:Europe/Berlin
BEGIN:VEVENT
SUMMARY:'Euskararen Gramatikaren ezaugarriak eta berritasunak: itzultzaile
 entzako gako batzuk' saioa\, Donostian
DTSTART;TZID=Europe/Berlin;VALUE=DATE-TIME:20220315T163000
DTEND;TZID=Europe/Berlin;VALUE=DATE-TIME:20220315T183000
DTSTAMP;VALUE=DATE-TIME:20260425T211720Z
UID:ae901863bdf8429faac091e15e69ec89@eizievarnish
CATEGORIES:Ikastaroak
CREATED;VALUE=DATE-TIME:20220302T093541Z
LAST-MODIFIED;VALUE=DATE-TIME:20240209T091738Z
LOCATION:Donostia\, Euskaltzaindiaren egoitza
URL:https://eizie.eus/eu/agenda/euskararen-gramatikaren-ezaugarriak-eta-be
 rritasunak-itzultzaileentzako-gako-batzuk-saioa-donostian
END:VEVENT
BEGIN:VTIMEZONE
TZID:Europe/Berlin
X-LIC-LOCATION:Europe/Berlin
BEGIN:STANDARD
DTSTART;VALUE=DATE-TIME:20211031T020000
TZNAME:CET
TZOFFSETFROM:+0200
TZOFFSETTO:+0100
END:STANDARD
END:VTIMEZONE
END:VCALENDAR
