BEGIN:VCALENDAR
VERSION:2.0
PRODID:-//Plone.org//NONSGML plone.app.event//EN
X-WR-TIMEZONE:Europe/Berlin
BEGIN:VEVENT
SUMMARY:«Euskara Batuaren ortotipografia» ikastaroak
DTSTART;TZID=Europe/Berlin;VALUE=DATE-TIME:20250109T170000
DTEND;TZID=Europe/Berlin;VALUE=DATE-TIME:20250122T113000
DTSTAMP;VALUE=DATE-TIME:20260425T185721Z
UID:5f8998b3e2b243f983561a1f0128bba3@eizievarnish
CATEGORIES:Ikastaroak
CREATED;VALUE=DATE-TIME:20250107T135942Z
LAST-MODIFIED;VALUE=DATE-TIME:20250107T140234Z
LOCATION:Donostia\, Bilbo\, Gasteiz\, Iruñea\, Baiona
URL:https://eizie.eus/eu/agenda/euskara-batuaren-ortotipografia-ikastaroak
END:VEVENT
BEGIN:VTIMEZONE
TZID:Europe/Berlin
X-LIC-LOCATION:Europe/Berlin
BEGIN:STANDARD
DTSTART;VALUE=DATE-TIME:20241027T020000
TZNAME:CET
TZOFFSETFROM:+0200
TZOFFSETTO:+0100
END:STANDARD
END:VTIMEZONE
END:VCALENDAR
