BEGIN:VCALENDAR
VERSION:2.0
PRODID:-//Plone.org//NONSGML plone.app.event//EN
X-WR-TIMEZONE:Europe/Berlin
BEGIN:VEVENT
SUMMARY:Ernest Hemingwayren 'Fiesta. Eguzkia jaikitzen da'\, Aretxabaletan
DTSTART;TZID=Europe/Berlin;VALUE=DATE-TIME:20241010T183000
DTSTAMP;VALUE=DATE-TIME:20260423T191108Z
UID:7618f978a7864bd29a0284ba6cf2e977@eizieplone
CATEGORIES:Literatura unibertsala,Irakurle taldeak
CREATED;VALUE=DATE-TIME:20241007T103755Z
LAST-MODIFIED;VALUE=DATE-TIME:20241007T104837Z
LOCATION:Aretxabaletako kultur etxea
URL:https://eizie.eus/eu/agenda/ernest-hemingwayren-fiesta-eguzkia-jaikitz
 en-da-aretxabaletan
END:VEVENT
BEGIN:VTIMEZONE
TZID:Europe/Berlin
X-LIC-LOCATION:Europe/Berlin
BEGIN:DAYLIGHT
DTSTART;VALUE=DATE-TIME:20240331T030000
TZNAME:CEST
TZOFFSETFROM:+0100
TZOFFSETTO:+0200
END:DAYLIGHT
END:VTIMEZONE
END:VCALENDAR
