BEGIN:VCALENDAR
VERSION:2.0
PRODID:-//Plone.org//NONSGML plone.app.event//EN
X-WR-TIMEZONE:Europe/Berlin
BEGIN:VEVENT
SUMMARY:Elsa Moranteren 'Arturoren uhartea' - Liburuaren aurkezpena
DTSTART;TZID=Europe/Berlin;VALUE=DATE-TIME:20241129T113000
DTSTAMP;VALUE=DATE-TIME:20260425T204912Z
UID:68015c473b9a4e1888a73960540c6900@eizievarnish
CATEGORIES:Literatura unibertsala,Ekitaldiak
CREATED;VALUE=DATE-TIME:20241126T082908Z
LAST-MODIFIED;VALUE=DATE-TIME:20241126T083032Z
LOCATION:Donostiako Udal Liburutegia
URL:https://eizie.eus/eu/agenda/elsa-moranteren-arturoren-uhartea-liburuar
 en-aurkezpena
END:VEVENT
BEGIN:VTIMEZONE
TZID:Europe/Berlin
X-LIC-LOCATION:Europe/Berlin
BEGIN:STANDARD
DTSTART;VALUE=DATE-TIME:20241027T020000
TZNAME:CET
TZOFFSETFROM:+0200
TZOFFSETTO:+0100
END:STANDARD
END:VTIMEZONE
END:VCALENDAR
