BEGIN:VCALENDAR
VERSION:2.0
PRODID:-//Plone.org//NONSGML plone.app.event//EN
X-WR-TIMEZONE:Europe/Berlin
BEGIN:VEVENT
SUMMARY:Elio Vittoriniren 'Solasaldia Sizilian'\, Donostian
DTSTART;TZID=Europe/Berlin;VALUE=DATE-TIME:20240529T190000
DTSTAMP;VALUE=DATE-TIME:20260425T204913Z
UID:7702042017a34c23998f52d0ae7926be@eizievarnish
CATEGORIES:Irakurle taldeak
CREATED;VALUE=DATE-TIME:20240529T074145Z
LAST-MODIFIED;VALUE=DATE-TIME:20240529T074154Z
LOCATION:Egiako kultur etxea
URL:https://eizie.eus/eu/agenda/elio-vittoriniren-solasaldia-sizilian-dono
 stian
END:VEVENT
BEGIN:VTIMEZONE
TZID:Europe/Berlin
X-LIC-LOCATION:Europe/Berlin
BEGIN:DAYLIGHT
DTSTART;VALUE=DATE-TIME:20240331T030000
TZNAME:CEST
TZOFFSETFROM:+0100
TZOFFSETTO:+0200
END:DAYLIGHT
END:VTIMEZONE
END:VCALENDAR
