BEGIN:VCALENDAR
VERSION:2.0
PRODID:-//Plone.org//NONSGML plone.app.event//EN
X-WR-TIMEZONE:Europe/Berlin
BEGIN:VEVENT
SUMMARY:'ELIAN: Esaldi Luzeak Itzultzeko Adimen Naturala' ikastaroa\, Dono
 stian eta Bilbon
DTSTART;TZID=Europe/Berlin;VALUE=DATE-TIME:20230531T160000
DTEND;TZID=Europe/Berlin;VALUE=DATE-TIME:20230607T190000
DTSTAMP;VALUE=DATE-TIME:20260425T130046Z
UID:a9219b1f5fe7414c9dc92af03e7ea2db@eizievarnish
CATEGORIES:Ikastaroak
CREATED;VALUE=DATE-TIME:20230509T111047Z
LAST-MODIFIED;VALUE=DATE-TIME:20260127T152841Z
LOCATION:Donostian\, Euskaltzaindiaren egoitzan. Bilbon\, Euskararen Etxea
 n
URL:https://eizie.eus/eu/agenda/elian-esaldi-luzeak-itzultzeko-adimen-natu
 rala-ikastaroa-donostian-eta-bilbon
END:VEVENT
BEGIN:VTIMEZONE
TZID:Europe/Berlin
X-LIC-LOCATION:Europe/Berlin
BEGIN:DAYLIGHT
DTSTART;VALUE=DATE-TIME:20230326T030000
TZNAME:CEST
TZOFFSETFROM:+0100
TZOFFSETTO:+0200
END:DAYLIGHT
END:VTIMEZONE
END:VCALENDAR
