BEGIN:VCALENDAR
VERSION:2.0
PRODID:-//Plone.org//NONSGML plone.app.event//EN
X-WR-TIMEZONE:Europe/Berlin
BEGIN:VEVENT
SUMMARY:'Ekologia pirata baten alde' (Fatima Ouassak)\, aurkezpena Durango
 n
DTSTART;TZID=Europe/Berlin;VALUE=DATE-TIME:20260422T190000
DTSTAMP;VALUE=DATE-TIME:20260421T161946Z
UID:2568ed85bae84d06888592bf22513ae8@eizieplone
CATEGORIES:Ekitaldiak
CREATED;VALUE=DATE-TIME:20260421T104504Z
LAST-MODIFIED;VALUE=DATE-TIME:20260421T104718Z
LOCATION:Hitz liburu-denda
URL:https://eizie.eus/eu/agenda/ekologia-pirata-baten-alde-fatima-ouassak-
 aurkezpena-durangon
END:VEVENT
BEGIN:VTIMEZONE
TZID:Europe/Berlin
X-LIC-LOCATION:Europe/Berlin
BEGIN:DAYLIGHT
DTSTART;VALUE=DATE-TIME:20260329T030000
TZNAME:CEST
TZOFFSETFROM:+0100
TZOFFSETTO:+0200
END:DAYLIGHT
END:VTIMEZONE
END:VCALENDAR
