BEGIN:VCALENDAR
VERSION:2.0
PRODID:-//Plone.org//NONSGML plone.app.event//EN
X-WR-TIMEZONE:Europe/Berlin
BEGIN:VEVENT
SUMMARY:Eduardo Galeanoren 'Latinoamerikaren zain urratuak'\, aurkezpena D
 onostian
DTSTART;TZID=Europe/Berlin;VALUE=DATE-TIME:20251012T180000
DTSTAMP;VALUE=DATE-TIME:20260425T205930Z
UID:19ed69dd87d242a496a1ef4b9f7e3dbf@eizievarnish
CATEGORIES:Ekitaldiak
CREATED;VALUE=DATE-TIME:20251009T143433Z
LAST-MODIFIED;VALUE=DATE-TIME:20251009T143449Z
LOCATION:Re-Read liburu-denda
URL:https://eizie.eus/eu/agenda/eduardo-galeanoren-latinoamerikaren-zain-u
 rratuak-aurkezpena-donostian
END:VEVENT
BEGIN:VTIMEZONE
TZID:Europe/Berlin
X-LIC-LOCATION:Europe/Berlin
BEGIN:DAYLIGHT
DTSTART;VALUE=DATE-TIME:20250330T030000
TZNAME:CEST
TZOFFSETFROM:+0100
TZOFFSETTO:+0200
END:DAYLIGHT
END:VTIMEZONE
END:VCALENDAR
