BEGIN:VCALENDAR
VERSION:2.0
PRODID:-//Plone.org//NONSGML plone.app.event//EN
X-WR-TIMEZONE:Europe/Berlin
BEGIN:VEVENT
SUMMARY:Dostoieskiren 'Lurpeko ezkutuan idatziak' nobelaren aurkezpena\, D
 onostian
DTSTART;TZID=Europe/Berlin;VALUE=DATE-TIME:20241106T103000
DTSTAMP;VALUE=DATE-TIME:20260425T190216Z
UID:d62946f2703c4f3599c9760c76d85147@eizievarnish
CATEGORIES:Ekitaldiak
CREATED;VALUE=DATE-TIME:20241105T151347Z
LAST-MODIFIED;VALUE=DATE-TIME:20241105T151354Z
LOCATION:Donostiako Udal Liburutegia
URL:https://eizie.eus/eu/agenda/dostoieskiren-lurpeko-ezkutuan-idatziak-no
 belaren-aurkezpena-donostian
END:VEVENT
BEGIN:VTIMEZONE
TZID:Europe/Berlin
X-LIC-LOCATION:Europe/Berlin
BEGIN:STANDARD
DTSTART;VALUE=DATE-TIME:20241027T020000
TZNAME:CET
TZOFFSETFROM:+0200
TZOFFSETTO:+0100
END:STANDARD
END:VTIMEZONE
END:VCALENDAR
