BEGIN:VCALENDAR
VERSION:2.0
PRODID:-//Plone.org//NONSGML plone.app.event//EN
X-WR-TIMEZONE:Europe/Berlin
BEGIN:VEVENT
SUMMARY:Dolores Redondoren 'Lorik egiten ez dutenak NASH' - Aurkezpena\, D
 onostian
DTSTART;TZID=Europe/Berlin;VALUE=DATE-TIME:20250703T110000
DTSTAMP;VALUE=DATE-TIME:20260425T205644Z
UID:d6b575065ee741bd8b2eaabfe27c98a3@eizievarnish
CATEGORIES:Ekitaldiak
CREATED;VALUE=DATE-TIME:20250624T123902Z
LAST-MODIFIED;VALUE=DATE-TIME:20250624T123910Z
LOCATION:Donostiako Liburutegi Nagusia (Konstituzio Plaza\, 2. solairua)
URL:https://eizie.eus/eu/agenda/dolores-redondoren-lorik-egiten-ez-dutenak
 -nash-aurkezpena-donostian
END:VEVENT
BEGIN:VTIMEZONE
TZID:Europe/Berlin
X-LIC-LOCATION:Europe/Berlin
BEGIN:DAYLIGHT
DTSTART;VALUE=DATE-TIME:20250330T030000
TZNAME:CEST
TZOFFSETFROM:+0100
TZOFFSETTO:+0200
END:DAYLIGHT
END:VTIMEZONE
END:VCALENDAR
